BEGIN:VCALENDAR
VERSION:2.0
PRODID:-//Boston Center for Independent Living - ECPv6.15.20//NONSGML v1.0//EN
CALSCALE:GREGORIAN
METHOD:PUBLISH
X-ORIGINAL-URL:https://bostoncil.org
X-WR-CALDESC:Events for Boston Center for Independent Living
REFRESH-INTERVAL;VALUE=DURATION:PT1H
X-Robots-Tag:noindex
X-PUBLISHED-TTL:PT1H
BEGIN:VTIMEZONE
TZID:America/New_York
BEGIN:DAYLIGHT
TZOFFSETFROM:-0500
TZOFFSETTO:-0400
TZNAME:EDT
DTSTART:20190310T070000
END:DAYLIGHT
BEGIN:STANDARD
TZOFFSETFROM:-0400
TZOFFSETTO:-0500
TZNAME:EST
DTSTART:20191103T060000
END:STANDARD
BEGIN:DAYLIGHT
TZOFFSETFROM:-0500
TZOFFSETTO:-0400
TZNAME:EDT
DTSTART:20200308T070000
END:DAYLIGHT
BEGIN:STANDARD
TZOFFSETFROM:-0400
TZOFFSETTO:-0500
TZNAME:EST
DTSTART:20201101T060000
END:STANDARD
BEGIN:DAYLIGHT
TZOFFSETFROM:-0500
TZOFFSETTO:-0400
TZNAME:EDT
DTSTART:20210314T070000
END:DAYLIGHT
BEGIN:STANDARD
TZOFFSETFROM:-0400
TZOFFSETTO:-0500
TZNAME:EST
DTSTART:20211107T060000
END:STANDARD
END:VTIMEZONE
BEGIN:VTIMEZONE
TZID:America/New_York
BEGIN:DAYLIGHT
TZOFFSETFROM:-0500
TZOFFSETTO:-0400
TZNAME:EDT
DTSTART:20190310T070000
END:DAYLIGHT
BEGIN:STANDARD
TZOFFSETFROM:-0400
TZOFFSETTO:-0500
TZNAME:EST
DTSTART:20191103T060000
END:STANDARD
BEGIN:DAYLIGHT
TZOFFSETFROM:-0500
TZOFFSETTO:-0400
TZNAME:EDT
DTSTART:20200308T070000
END:DAYLIGHT
BEGIN:STANDARD
TZOFFSETFROM:-0400
TZOFFSETTO:-0500
TZNAME:EST
DTSTART:20201101T060000
END:STANDARD
BEGIN:DAYLIGHT
TZOFFSETFROM:-0500
TZOFFSETTO:-0400
TZNAME:EDT
DTSTART:20210314T070000
END:DAYLIGHT
BEGIN:STANDARD
TZOFFSETFROM:-0400
TZOFFSETTO:-0500
TZNAME:EST
DTSTART:20211107T060000
END:STANDARD
END:VTIMEZONE
BEGIN:VEVENT
DTSTART;TZID=America/New_York:20200805T100000
DTEND;TZID=America/New_York:20200805T120000
DTSTAMP:20260424T123113
CREATED:20180702T183814Z
LAST-MODIFIED:20230615T135137Z
UID:10000054-1596621600-1596628800@bostoncil.org
SUMMARY:Virtual Housing Workshop
DESCRIPTION:Virtual Housing Workshop \nJoin us on the first and third Wednesday of every month to learn more about and how to apply for affordable housing options in your area. Our knowledgeable staff will answer all your questions and put you on the path to finding the housing that is right for you. \nThis workshop will teach you about:\n• Types of housing available in the Boston area\n• Navigating subsidized and affordable housing\n• Conducting a housing search\n• Communicating with housing authorities\, agencies\, and landlords\n• Completing applications for state voucher programs\n• How to request reasonable accommodations for your disability \nEach workshop will include a period when you can ask questions. \nTo register: email Kat at kvilson@bostoncil.org with your full\nname and phone number. You will receive a confirmation email from\nKat that will include the Zoom webinar link and password. \nTo request reasonable accommodations\, please let Kat know when\nyou register. \n  \n 
URL:https://bostoncil.org/event/housing-workshop-3/2020-08-05/
LOCATION:BCIL Offices\, 60 Temple Place\, 5th Floor\, Boston Center for Independent Living\, Boston\, MA\, 02111\, United States
CATEGORIES:Workshops
ORGANIZER;CN="Susan Smith":MAILTO:ssmith@bostoncil.org
GEO:42.3550591;-71.0613147
X-APPLE-STRUCTURED-LOCATION;VALUE=URI;X-ADDRESS=BCIL Offices 60 Temple Place 5th Floor Boston Center for Independent Living Boston MA 02111 United States;X-APPLE-RADIUS=500;X-TITLE=60 Temple Place\, 5th Floor\, Boston Center for Independent Living:geo:-71.0613147,42.3550591
END:VEVENT
BEGIN:VEVENT
DTSTART;TZID=America/New_York:20200804T150000
DTEND;TZID=America/New_York:20200804T160000
DTSTAMP:20260424T123113
CREATED:20200527T150125Z
LAST-MODIFIED:20200527T150145Z
UID:10000416-1596553200-1596556800@bostoncil.org
SUMMARY:Preparing for College - Youth Workshop
DESCRIPTION:Preparing for College– In this 5 week Zoom-based workshop we will explore how to request college accommodations\, services on campus\, preparing for online classes\, and managing social life and time management. Tuesdays 3-4 pm July 14th- August 11th \nTo register please email Mary-Kate Wells at mkwells@bostoncil.org
URL:https://bostoncil.org/event/preparing-for-college-youth-workshop/2020-08-04/
ORGANIZER;CN="Susan Smith":MAILTO:ssmith@bostoncil.org
END:VEVENT
BEGIN:VEVENT
DTSTART;TZID=America/New_York:20200803T140000
DTEND;TZID=America/New_York:20200803T150000
DTSTAMP:20260424T123113
CREATED:20200527T150556Z
LAST-MODIFIED:20200527T150556Z
UID:10000412-1596463200-1596466800@bostoncil.org
SUMMARY:Job and Volunteer Search Club - Youth Workshop
DESCRIPTION:Job and Volunteer Search Club– Join us on Zoom to explore summer job and volunteer opportunities. Topics will include risks and benefits of “essential jobs\,” completing job applications\, managing stress in your job search\, and exploring volunteer experiences. Monday’s Bi-weekly 2-3pm 6/22\, 7/6\, 7/20\, 8/3. \nTo register please email Mary-Kate Wells at mkwells@bostoncil.org
URL:https://bostoncil.org/event/job-and-volunteer-search-club-youth-workshop/2020-08-03/
ORGANIZER;CN="Susan Smith":MAILTO:ssmith@bostoncil.org
END:VEVENT
BEGIN:VEVENT
DTSTART;TZID=America/New_York:20200803T120000
DTEND;TZID=America/New_York:20200803T133000
DTSTAMP:20260424T123113
CREATED:20200527T144518Z
LAST-MODIFIED:20200527T144858Z
UID:10000385-1596456000-1596461400@bostoncil.org
SUMMARY:Cook-A-Long Youth Workshop
DESCRIPTION:Cook-A-Long- In this 9-week Zoom-based workshop we will be cooking along together\, starting with basic food preparation skills\, and building up to simple recipes. \nTo register please email Dan Harris at dharris@bostoncil.org or Kaitlyn Coppola at KCoppola@bostoncil.org
URL:https://bostoncil.org/event/cook-a-long/2020-08-03/
ORGANIZER;CN="Susan Smith":MAILTO:ssmith@bostoncil.org
END:VEVENT
BEGIN:VEVENT
DTSTART;TZID=America/New_York:20200803T100000
DTEND;TZID=America/New_York:20200803T130000
DTSTAMP:20260424T123113
CREATED:20200227T185855Z
LAST-MODIFIED:20200227T204859Z
UID:10000276-1596448800-1596459600@bostoncil.org
SUMMARY:Travel Training Summer Workshop Series for Youth Ages 16 - 22
DESCRIPTION:Join us this summer as we work together to: \n\nBuild and strengthen community safety skills\nPractice using the MBTA in and around Boston\nSocialize with peers\nand HAVE FUN along the way!\n\n This group is appropriate for:  Youth ages 16-22. Participants must be interested in learning to increase their skills and confidence traveling safely on the MBTA. \n The series is free for all participants. Registration is required and space is limited. Ideally participants are available to attend all 4 sessions. Please register by June 15\, 2020 \nFor more information\, to register\, or to request accommodations\, please contact: \nDan Harris dharris@bostoncil.org or 617-338-6665 x 236
URL:https://bostoncil.org/event/travel-training-summer-workshop-series-for-youth-ages-16-22-2/2020-08-03/
LOCATION:The Boston Center for Independent Living\, 60 Temple Place\, Boston\, MA\, 02111\, United States
CATEGORIES:Workshops
ORGANIZER;CN="Susan Smith":MAILTO:ssmith@bostoncil.org
END:VEVENT
BEGIN:VEVENT
DTSTART;TZID=America/New_York:20200731T120000
DTEND;TZID=America/New_York:20200731T133000
DTSTAMP:20260424T123113
CREATED:20200527T144302Z
LAST-MODIFIED:20200527T144323Z
UID:10000366-1596196800-1596202200@bostoncil.org
SUMMARY:Adulting 101 - Youth Workshop
DESCRIPTION:Adulting 101– This 9-week Zoom-based workshop will explore a range of topics related to independent living and building ‘adulting’ skills.  Topics will include travel training\, time management\, personal finance\, community safety\, and more! \nTo register please email Dan Harris at dharris@bostoncil.org or Kaitlyn Coppola at KCoppola@bostoncil.org
URL:https://bostoncil.org/event/adultiing-101-youth-workshop/2020-07-31/
ORGANIZER;CN="Susan Smith":MAILTO:ssmith@bostoncil.org
END:VEVENT
BEGIN:VEVENT
DTSTART;TZID=America/New_York:20200730T130000
DTEND;TZID=America/New_York:20200730T140000
DTSTAMP:20260424T123113
CREATED:20200527T145832Z
LAST-MODIFIED:20200527T150702Z
UID:10000406-1596114000-1596117600@bostoncil.org
SUMMARY:Work Readiness Series - Youth Workshop
DESCRIPTION:Work Readiness Series– Join us for a 4 week Zoom based workshop series focusing on the skills you need to help you find and keep a job. Topics include resume building\, preparing for interviews\, workplace etiquette\, and communication skills. Thursdays 1-2 pm July 23rd- August 13th \nTo register please email Mary-Kate Wells at mkwells@bostoncil.org
URL:https://bostoncil.org/event/work-readiness-series/2020-07-30/
ORGANIZER;CN="Susan Smith":MAILTO:ssmith@bostoncil.org
END:VEVENT
BEGIN:VEVENT
DTSTART;TZID=America/New_York:20200729T140000
DTEND;TZID=America/New_York:20200729T150000
DTSTAMP:20260424T123113
CREATED:20200527T145205Z
LAST-MODIFIED:20200605T142903Z
UID:10000402-1596031200-1596034800@bostoncil.org
SUMMARY:Justice League - Youth Workshop
DESCRIPTION:The Justice League- Join us for a 9-week Zoom based workshop exploring how  how people with disabilities have changed the world for the better\, and how you can help to change things in the future!  This workshop is free to participate and is open to folks under 25 who identify as having a disability. \nTo register please email Dan Harris at dharris@bostoncil.org or Kaitlyn Coppola at KCoppola@bostoncil.org
URL:https://bostoncil.org/event/the-disability-justice-league-youth-workshop/2020-07-29/
ORGANIZER;CN="Susan Smith":MAILTO:ssmith@bostoncil.org
END:VEVENT
BEGIN:VEVENT
DTSTART;TZID=America/New_York:20200729T120000
DTEND;TZID=America/New_York:20200729T133000
DTSTAMP:20260424T123113
CREATED:20200527T144748Z
LAST-MODIFIED:20200527T144943Z
UID:10000375-1596024000-1596029400@bostoncil.org
SUMMARY:Self-care\, Well-being\, and Resilience - Youth Workshop
DESCRIPTION:Self-care\, Well-being\, and Resilience- A group for youth with disabilities ages 14-24. Join us to chat about relationships\, self-care\, boundaries\, among other topics that relate to our sense of being well. \nTo register please email Dan Harris at dharris@bostoncil.org or Kaitlyn Coppola at KCoppola@bostoncil.org
URL:https://bostoncil.org/event/self-care-well-being-and-resilience/2020-07-29/
ORGANIZER;CN="Susan Smith":MAILTO:ssmith@bostoncil.org
END:VEVENT
BEGIN:VEVENT
DTSTART;TZID=America/New_York:20200728T150000
DTEND;TZID=America/New_York:20200728T160000
DTSTAMP:20260424T123113
CREATED:20200527T150125Z
LAST-MODIFIED:20200527T150145Z
UID:10000415-1595948400-1595952000@bostoncil.org
SUMMARY:Preparing for College - Youth Workshop
DESCRIPTION:Preparing for College– In this 5 week Zoom-based workshop we will explore how to request college accommodations\, services on campus\, preparing for online classes\, and managing social life and time management. Tuesdays 3-4 pm July 14th- August 11th \nTo register please email Mary-Kate Wells at mkwells@bostoncil.org
URL:https://bostoncil.org/event/preparing-for-college-youth-workshop/2020-07-28/
ORGANIZER;CN="Susan Smith":MAILTO:ssmith@bostoncil.org
END:VEVENT
BEGIN:VEVENT
DTSTART;TZID=America/New_York:20200727T150000
DTEND;TZID=America/New_York:20200727T161500
DTSTAMP:20260424T123113
CREATED:20200527T151042Z
LAST-MODIFIED:20200527T151042Z
UID:10000391-1595862000-1595866500@bostoncil.org
SUMMARY:Meet Me Mondays - Youth Workshop
DESCRIPTION:Meet me Mondays– In this Zoom-based workshop\, we will meet people from different careers and engage in virtual job shadow opportunities. Careers we will explore are law enforcement\, human services\, STEM\, retail\, and skilled trades. Monday’s Bi-Weekly 3-4:15 pm 6/15\, 6/29\, 7/13\, 7/27\, 8/10 \nTo register please email Mary-Kate Wells at mkwells@bostoncil.org
URL:https://bostoncil.org/event/meet-me-mondays-youth-workshop/2020-07-27/
ORGANIZER;CN="Susan Smith":MAILTO:ssmith@bostoncil.org
END:VEVENT
BEGIN:VEVENT
DTSTART;TZID=America/New_York:20200727T120000
DTEND;TZID=America/New_York:20200727T133000
DTSTAMP:20260424T123113
CREATED:20200527T144518Z
LAST-MODIFIED:20200527T144858Z
UID:10000384-1595851200-1595856600@bostoncil.org
SUMMARY:Cook-A-Long Youth Workshop
DESCRIPTION:Cook-A-Long- In this 9-week Zoom-based workshop we will be cooking along together\, starting with basic food preparation skills\, and building up to simple recipes. \nTo register please email Dan Harris at dharris@bostoncil.org or Kaitlyn Coppola at KCoppola@bostoncil.org
URL:https://bostoncil.org/event/cook-a-long/2020-07-27/
ORGANIZER;CN="Susan Smith":MAILTO:ssmith@bostoncil.org
END:VEVENT
BEGIN:VEVENT
DTSTART;TZID=America/New_York:20200727T100000
DTEND;TZID=America/New_York:20200727T130000
DTSTAMP:20260424T123113
CREATED:20200227T185855Z
LAST-MODIFIED:20200227T204859Z
UID:10000275-1595844000-1595854800@bostoncil.org
SUMMARY:Travel Training Summer Workshop Series for Youth Ages 16 - 22
DESCRIPTION:Join us this summer as we work together to: \n\nBuild and strengthen community safety skills\nPractice using the MBTA in and around Boston\nSocialize with peers\nand HAVE FUN along the way!\n\n This group is appropriate for:  Youth ages 16-22. Participants must be interested in learning to increase their skills and confidence traveling safely on the MBTA. \n The series is free for all participants. Registration is required and space is limited. Ideally participants are available to attend all 4 sessions. Please register by June 15\, 2020 \nFor more information\, to register\, or to request accommodations\, please contact: \nDan Harris dharris@bostoncil.org or 617-338-6665 x 236
URL:https://bostoncil.org/event/travel-training-summer-workshop-series-for-youth-ages-16-22-2/2020-07-27/
LOCATION:The Boston Center for Independent Living\, 60 Temple Place\, Boston\, MA\, 02111\, United States
CATEGORIES:Workshops
ORGANIZER;CN="Susan Smith":MAILTO:ssmith@bostoncil.org
END:VEVENT
BEGIN:VEVENT
DTSTART;TZID=America/New_York:20200724T120000
DTEND;TZID=America/New_York:20200724T133000
DTSTAMP:20260424T123113
CREATED:20200527T144302Z
LAST-MODIFIED:20200527T144323Z
UID:10000365-1595592000-1595597400@bostoncil.org
SUMMARY:Adulting 101 - Youth Workshop
DESCRIPTION:Adulting 101– This 9-week Zoom-based workshop will explore a range of topics related to independent living and building ‘adulting’ skills.  Topics will include travel training\, time management\, personal finance\, community safety\, and more! \nTo register please email Dan Harris at dharris@bostoncil.org or Kaitlyn Coppola at KCoppola@bostoncil.org
URL:https://bostoncil.org/event/adultiing-101-youth-workshop/2020-07-24/
ORGANIZER;CN="Susan Smith":MAILTO:ssmith@bostoncil.org
END:VEVENT
BEGIN:VEVENT
DTSTART;TZID=America/New_York:20200723T130000
DTEND;TZID=America/New_York:20200723T140000
DTSTAMP:20260424T123113
CREATED:20200527T145832Z
LAST-MODIFIED:20200527T150702Z
UID:10000405-1595509200-1595512800@bostoncil.org
SUMMARY:Work Readiness Series - Youth Workshop
DESCRIPTION:Work Readiness Series– Join us for a 4 week Zoom based workshop series focusing on the skills you need to help you find and keep a job. Topics include resume building\, preparing for interviews\, workplace etiquette\, and communication skills. Thursdays 1-2 pm July 23rd- August 13th \nTo register please email Mary-Kate Wells at mkwells@bostoncil.org
URL:https://bostoncil.org/event/work-readiness-series/2020-07-23/
ORGANIZER;CN="Susan Smith":MAILTO:ssmith@bostoncil.org
END:VEVENT
BEGIN:VEVENT
DTSTART;TZID=America/New_York:20200722T140000
DTEND;TZID=America/New_York:20200722T150000
DTSTAMP:20260424T123113
CREATED:20200527T145205Z
LAST-MODIFIED:20200605T142903Z
UID:10000401-1595426400-1595430000@bostoncil.org
SUMMARY:Justice League - Youth Workshop
DESCRIPTION:The Justice League- Join us for a 9-week Zoom based workshop exploring how  how people with disabilities have changed the world for the better\, and how you can help to change things in the future!  This workshop is free to participate and is open to folks under 25 who identify as having a disability. \nTo register please email Dan Harris at dharris@bostoncil.org or Kaitlyn Coppola at KCoppola@bostoncil.org
URL:https://bostoncil.org/event/the-disability-justice-league-youth-workshop/2020-07-22/
ORGANIZER;CN="Susan Smith":MAILTO:ssmith@bostoncil.org
END:VEVENT
BEGIN:VEVENT
DTSTART;TZID=America/New_York:20200722T130000
DTEND;TZID=America/New_York:20200722T143000
DTSTAMP:20260424T123113
CREATED:20200217T212740Z
LAST-MODIFIED:20200610T224902Z
UID:10000261-1595422800-1595428200@bostoncil.org
SUMMARY:ADA 30: a call for Equity\, Diversity\, Inclusion
DESCRIPTION:This year marks the 30th anniversary of the signing of the American’s with Disabilities Act. While the ADA has provided the disability community with increased access we recognize that much work still needs to be done to ensure equitable access for all. \nJoin the City of Boston Mayor’s Commission for Persons with Disabilities and the Boston Center for Independent Living on July 22nd for a virtual event to discuss how far we have come and what the future of disability rights looks like with a focus on diversity\, equity\, and inclusion. The event will run from 1-2:30. We will hear from leaders in disability rights\, consumers\, and elected officials. \nMore details to come but in the meantime please fill out this form to receive a free ADA 30 T-shirt to commemorate the event. Once you receive the shirt\, post a picture of you wearing the shirt and join our virtual ADA 30 community! \nShirt link: https://www.surveymonkey.com/r/ADA30BostonTshirts \nIf you have any questions regarding the t-shirts\, please e-mail disability@boston.gov or contact Jessica Doonan at 617-635-3682 or Jessica Podesva at 617-338-6665. \n 
URL:https://bostoncil.org/event/ada-30-march-rally-for-disability-rights/
ORGANIZER;CN="Susan Smith":MAILTO:ssmith@bostoncil.org
END:VEVENT
BEGIN:VEVENT
DTSTART;TZID=America/New_York:20200722T120000
DTEND;TZID=America/New_York:20200722T133000
DTSTAMP:20260424T123113
CREATED:20200527T144748Z
LAST-MODIFIED:20200527T144943Z
UID:10000374-1595419200-1595424600@bostoncil.org
SUMMARY:Self-care\, Well-being\, and Resilience - Youth Workshop
DESCRIPTION:Self-care\, Well-being\, and Resilience- A group for youth with disabilities ages 14-24. Join us to chat about relationships\, self-care\, boundaries\, among other topics that relate to our sense of being well. \nTo register please email Dan Harris at dharris@bostoncil.org or Kaitlyn Coppola at KCoppola@bostoncil.org
URL:https://bostoncil.org/event/self-care-well-being-and-resilience/2020-07-22/
ORGANIZER;CN="Susan Smith":MAILTO:ssmith@bostoncil.org
END:VEVENT
BEGIN:VEVENT
DTSTART;TZID=America/New_York:20200721T150000
DTEND;TZID=America/New_York:20200721T160000
DTSTAMP:20260424T123113
CREATED:20200527T150125Z
LAST-MODIFIED:20200527T150145Z
UID:10000414-1595343600-1595347200@bostoncil.org
SUMMARY:Preparing for College - Youth Workshop
DESCRIPTION:Preparing for College– In this 5 week Zoom-based workshop we will explore how to request college accommodations\, services on campus\, preparing for online classes\, and managing social life and time management. Tuesdays 3-4 pm July 14th- August 11th \nTo register please email Mary-Kate Wells at mkwells@bostoncil.org
URL:https://bostoncil.org/event/preparing-for-college-youth-workshop/2020-07-21/
ORGANIZER;CN="Susan Smith":MAILTO:ssmith@bostoncil.org
END:VEVENT
BEGIN:VEVENT
DTSTART;TZID=America/New_York:20200720T140000
DTEND;TZID=America/New_York:20200720T150000
DTSTAMP:20260424T123113
CREATED:20200527T150556Z
LAST-MODIFIED:20200527T150556Z
UID:10000411-1595253600-1595257200@bostoncil.org
SUMMARY:Job and Volunteer Search Club - Youth Workshop
DESCRIPTION:Job and Volunteer Search Club– Join us on Zoom to explore summer job and volunteer opportunities. Topics will include risks and benefits of “essential jobs\,” completing job applications\, managing stress in your job search\, and exploring volunteer experiences. Monday’s Bi-weekly 2-3pm 6/22\, 7/6\, 7/20\, 8/3. \nTo register please email Mary-Kate Wells at mkwells@bostoncil.org
URL:https://bostoncil.org/event/job-and-volunteer-search-club-youth-workshop/2020-07-20/
ORGANIZER;CN="Susan Smith":MAILTO:ssmith@bostoncil.org
END:VEVENT
BEGIN:VEVENT
DTSTART;TZID=America/New_York:20200720T120000
DTEND;TZID=America/New_York:20200720T133000
DTSTAMP:20260424T123113
CREATED:20200527T144518Z
LAST-MODIFIED:20200527T144858Z
UID:10000383-1595246400-1595251800@bostoncil.org
SUMMARY:Cook-A-Long Youth Workshop
DESCRIPTION:Cook-A-Long- In this 9-week Zoom-based workshop we will be cooking along together\, starting with basic food preparation skills\, and building up to simple recipes. \nTo register please email Dan Harris at dharris@bostoncil.org or Kaitlyn Coppola at KCoppola@bostoncil.org
URL:https://bostoncil.org/event/cook-a-long/2020-07-20/
ORGANIZER;CN="Susan Smith":MAILTO:ssmith@bostoncil.org
END:VEVENT
BEGIN:VEVENT
DTSTART;TZID=America/New_York:20200717T120000
DTEND;TZID=America/New_York:20200717T133000
DTSTAMP:20260424T123113
CREATED:20200527T144302Z
LAST-MODIFIED:20200527T144323Z
UID:10000364-1594987200-1594992600@bostoncil.org
SUMMARY:Adulting 101 - Youth Workshop
DESCRIPTION:Adulting 101– This 9-week Zoom-based workshop will explore a range of topics related to independent living and building ‘adulting’ skills.  Topics will include travel training\, time management\, personal finance\, community safety\, and more! \nTo register please email Dan Harris at dharris@bostoncil.org or Kaitlyn Coppola at KCoppola@bostoncil.org
URL:https://bostoncil.org/event/adultiing-101-youth-workshop/2020-07-17/
ORGANIZER;CN="Susan Smith":MAILTO:ssmith@bostoncil.org
END:VEVENT
BEGIN:VEVENT
DTSTART;TZID=America/New_York:20200716T130000
DTEND;TZID=America/New_York:20200716T140000
DTSTAMP:20260424T123113
CREATED:20200527T145620Z
LAST-MODIFIED:20200527T145620Z
UID:10000395-1594904400-1594908000@bostoncil.org
SUMMARY:What? Why? Work! - Youth Workshop
DESCRIPTION:What? Why? Work! – Join us on Zoom for a 4-week introduction to employment workshop series exploring the world of work and the themes of “What is work?” “Why we work?” and the choices and responsibilities inherent in work. Thursdays 1-2 pm June 18th- July 16th \nTo register please email Mary-Kate Wells at mkwells@bostoncil.org
URL:https://bostoncil.org/event/what-why-work-youth-workshop/2020-07-16/
ORGANIZER;CN="Susan Smith":MAILTO:ssmith@bostoncil.org
END:VEVENT
BEGIN:VEVENT
DTSTART;TZID=America/New_York:20200715T140000
DTEND;TZID=America/New_York:20200715T150000
DTSTAMP:20260424T123113
CREATED:20200527T145205Z
LAST-MODIFIED:20200605T142903Z
UID:10000400-1594821600-1594825200@bostoncil.org
SUMMARY:Justice League - Youth Workshop
DESCRIPTION:The Justice League- Join us for a 9-week Zoom based workshop exploring how  how people with disabilities have changed the world for the better\, and how you can help to change things in the future!  This workshop is free to participate and is open to folks under 25 who identify as having a disability. \nTo register please email Dan Harris at dharris@bostoncil.org or Kaitlyn Coppola at KCoppola@bostoncil.org
URL:https://bostoncil.org/event/the-disability-justice-league-youth-workshop/2020-07-15/
ORGANIZER;CN="Susan Smith":MAILTO:ssmith@bostoncil.org
END:VEVENT
BEGIN:VEVENT
DTSTART;TZID=America/New_York:20200715T120000
DTEND;TZID=America/New_York:20200715T133000
DTSTAMP:20260424T123113
CREATED:20200527T144748Z
LAST-MODIFIED:20200527T144943Z
UID:10000373-1594814400-1594819800@bostoncil.org
SUMMARY:Self-care\, Well-being\, and Resilience - Youth Workshop
DESCRIPTION:Self-care\, Well-being\, and Resilience- A group for youth with disabilities ages 14-24. Join us to chat about relationships\, self-care\, boundaries\, among other topics that relate to our sense of being well. \nTo register please email Dan Harris at dharris@bostoncil.org or Kaitlyn Coppola at KCoppola@bostoncil.org
URL:https://bostoncil.org/event/self-care-well-being-and-resilience/2020-07-15/
ORGANIZER;CN="Susan Smith":MAILTO:ssmith@bostoncil.org
END:VEVENT
BEGIN:VEVENT
DTSTART;TZID=America/New_York:20200715T100000
DTEND;TZID=America/New_York:20200715T120000
DTSTAMP:20260424T123113
CREATED:20230329T121505Z
LAST-MODIFIED:20230613T172336Z
UID:10000115-1594807200-1594814400@bostoncil.org
SUMMARY:Housing Workshop - In-Person & by Zoom
DESCRIPTION:Housing Workshop – In-Person & by Zoom \nJoin us on the first and third Wednesday of every month to learn more about and how to apply for affordable housing options in your area. Our knowledgeable staff will answer all your questions and put you on the path to finding the housing that is right for you. \nThis workshop will teach you about:\n• Types of housing available in the Boston area\n• Navigating subsidized and affordable housing\n• Conducting a housing search\n• Communicating with housing authorities\, agencies\, and landlords\n• Completing applications for state voucher programs\n• How to request reasonable accommodations for your disability \nEach workshop will include a period when you can ask questions. \nTo register: email Jackie at jmcglinchey@bostoncil.org with your full\nname and phone number. You will receive a confirmation email from\nJackie that will include the Zoom webinar link and password. \nTo request reasonable accommodations\, please let Jackie know when\nyou register. \n  \n 
URL:https://bostoncil.org/event/housing-workshop-3-2/2020-07-15/
LOCATION:BCIL Offices\, 60 Temple Place\, 5th Floor\, Boston Center for Independent Living\, Boston\, MA\, 02111\, United States
CATEGORIES:Workshops
ORGANIZER;CN="Susan Smith":MAILTO:ssmith@bostoncil.org
GEO:42.3550591;-71.0613147
X-APPLE-STRUCTURED-LOCATION;VALUE=URI;X-ADDRESS=BCIL Offices 60 Temple Place 5th Floor Boston Center for Independent Living Boston MA 02111 United States;X-APPLE-RADIUS=500;X-TITLE=60 Temple Place\, 5th Floor\, Boston Center for Independent Living:geo:-71.0613147,42.3550591
END:VEVENT
BEGIN:VEVENT
DTSTART;TZID=America/New_York:20200714T150000
DTEND;TZID=America/New_York:20200714T160000
DTSTAMP:20260424T123113
CREATED:20200527T150125Z
LAST-MODIFIED:20200527T150145Z
UID:10000413-1594738800-1594742400@bostoncil.org
SUMMARY:Preparing for College - Youth Workshop
DESCRIPTION:Preparing for College– In this 5 week Zoom-based workshop we will explore how to request college accommodations\, services on campus\, preparing for online classes\, and managing social life and time management. Tuesdays 3-4 pm July 14th- August 11th \nTo register please email Mary-Kate Wells at mkwells@bostoncil.org
URL:https://bostoncil.org/event/preparing-for-college-youth-workshop/2020-07-14/
ORGANIZER;CN="Susan Smith":MAILTO:ssmith@bostoncil.org
END:VEVENT
BEGIN:VEVENT
DTSTART;TZID=America/New_York:20200713T150000
DTEND;TZID=America/New_York:20200713T161500
DTSTAMP:20260424T123113
CREATED:20200527T151042Z
LAST-MODIFIED:20200527T151042Z
UID:10000390-1594652400-1594656900@bostoncil.org
SUMMARY:Meet Me Mondays - Youth Workshop
DESCRIPTION:Meet me Mondays– In this Zoom-based workshop\, we will meet people from different careers and engage in virtual job shadow opportunities. Careers we will explore are law enforcement\, human services\, STEM\, retail\, and skilled trades. Monday’s Bi-Weekly 3-4:15 pm 6/15\, 6/29\, 7/13\, 7/27\, 8/10 \nTo register please email Mary-Kate Wells at mkwells@bostoncil.org
URL:https://bostoncil.org/event/meet-me-mondays-youth-workshop/2020-07-13/
ORGANIZER;CN="Susan Smith":MAILTO:ssmith@bostoncil.org
END:VEVENT
BEGIN:VEVENT
DTSTART;TZID=America/New_York:20200713T120000
DTEND;TZID=America/New_York:20200713T133000
DTSTAMP:20260424T123113
CREATED:20200527T144518Z
LAST-MODIFIED:20200527T144858Z
UID:10000382-1594641600-1594647000@bostoncil.org
SUMMARY:Cook-A-Long Youth Workshop
DESCRIPTION:Cook-A-Long- In this 9-week Zoom-based workshop we will be cooking along together\, starting with basic food preparation skills\, and building up to simple recipes. \nTo register please email Dan Harris at dharris@bostoncil.org or Kaitlyn Coppola at KCoppola@bostoncil.org
URL:https://bostoncil.org/event/cook-a-long/2020-07-13/
ORGANIZER;CN="Susan Smith":MAILTO:ssmith@bostoncil.org
END:VEVENT
BEGIN:VEVENT
DTSTART;TZID=America/New_York:20200713T100000
DTEND;TZID=America/New_York:20200713T130000
DTSTAMP:20260424T123113
CREATED:20200227T185855Z
LAST-MODIFIED:20200227T204859Z
UID:10000274-1594634400-1594645200@bostoncil.org
SUMMARY:Travel Training Summer Workshop Series for Youth Ages 16 - 22
DESCRIPTION:Join us this summer as we work together to: \n\nBuild and strengthen community safety skills\nPractice using the MBTA in and around Boston\nSocialize with peers\nand HAVE FUN along the way!\n\n This group is appropriate for:  Youth ages 16-22. Participants must be interested in learning to increase their skills and confidence traveling safely on the MBTA. \n The series is free for all participants. Registration is required and space is limited. Ideally participants are available to attend all 4 sessions. Please register by June 15\, 2020 \nFor more information\, to register\, or to request accommodations\, please contact: \nDan Harris dharris@bostoncil.org or 617-338-6665 x 236
URL:https://bostoncil.org/event/travel-training-summer-workshop-series-for-youth-ages-16-22-2/2020-07-13/
LOCATION:The Boston Center for Independent Living\, 60 Temple Place\, Boston\, MA\, 02111\, United States
CATEGORIES:Workshops
ORGANIZER;CN="Susan Smith":MAILTO:ssmith@bostoncil.org
END:VEVENT
END:VCALENDAR