BEGIN:VCALENDAR
VERSION:2.0
PRODID:-//Boston Center for Independent Living - ECPv6.15.20//NONSGML v1.0//EN
CALSCALE:GREGORIAN
METHOD:PUBLISH
X-ORIGINAL-URL:https://bostoncil.org
X-WR-CALDESC:Events for Boston Center for Independent Living
REFRESH-INTERVAL;VALUE=DURATION:PT1H
X-Robots-Tag:noindex
X-PUBLISHED-TTL:PT1H
BEGIN:VTIMEZONE
TZID:America/New_York
BEGIN:DAYLIGHT
TZOFFSETFROM:-0500
TZOFFSETTO:-0400
TZNAME:EDT
DTSTART:20250309T070000
END:DAYLIGHT
BEGIN:STANDARD
TZOFFSETFROM:-0400
TZOFFSETTO:-0500
TZNAME:EST
DTSTART:20251102T060000
END:STANDARD
BEGIN:DAYLIGHT
TZOFFSETFROM:-0500
TZOFFSETTO:-0400
TZNAME:EDT
DTSTART:20260308T070000
END:DAYLIGHT
BEGIN:STANDARD
TZOFFSETFROM:-0400
TZOFFSETTO:-0500
TZNAME:EST
DTSTART:20261101T060000
END:STANDARD
BEGIN:DAYLIGHT
TZOFFSETFROM:-0500
TZOFFSETTO:-0400
TZNAME:EDT
DTSTART:20270314T070000
END:DAYLIGHT
BEGIN:STANDARD
TZOFFSETFROM:-0400
TZOFFSETTO:-0500
TZNAME:EST
DTSTART:20271107T060000
END:STANDARD
END:VTIMEZONE
BEGIN:VEVENT
DTSTART;TZID=America/New_York:20260527T140000
DTEND;TZID=America/New_York:20260527T160000
DTSTAMP:20260420T010429
CREATED:20260416T182749Z
LAST-MODIFIED:20260416T182749Z
UID:10001686-1779890400-1779897600@bostoncil.org
SUMMARY:RTAG Meeting on RIDE Vehicles
DESCRIPTION:Date: Wednesday\, May 27th\, from 2:00 to 4:00 p.m. \nLocation: In-Person ONLY\, 10 Park Plaza\, Boston\, MA 02116 \nRegister here: Meeting Registration \nThis public meeting gives customers an opportunity to explore RIDE vehicles firsthand and provide direct feedback to RIDE staff. Vehicles will be on-site\, and attendees are encouraged to share their experiences to help improve the accessibility and quality of paratransit service. \nBecause this is an interactive\, hands-on session that includes actual vehicles\, the meeting will not have a virtual option. If you are unable to attend in person but have feedback related to the RIDE vehicle experience to provide\, please contact RTAG. \nRTAG meetings are accessible to people with disabilities and those with limited English proficiency. American Sign Language (ASL) will not automatically be provided for this meeting. \nIf you have any questions or to request a reasonable accommodation\, such as American Sign Language (ASL)\, CART Captioning\, or language services\, please contact Kat at rtagboston@bostoncil.org or by phone at 978-893-8100. \n 
URL:https://bostoncil.org/event/rtag-meeting-on-ride-vehicles/
END:VEVENT
BEGIN:VEVENT
DTSTART;TZID=America/New_York:20260527T160000
DTEND;TZID=America/New_York:20260527T170000
DTSTAMP:20260420T010429
CREATED:20260320T183134Z
LAST-MODIFIED:20260320T183134Z
UID:10001669-1779897600-1779901200@bostoncil.org
SUMMARY:Get Hired: Ready\, Set\, Apply!
DESCRIPTION:Build skills. Gain confidence. Get hired. \nA 4-week workshop for youth (14-21) with disabilities \nThe Boston Center for Independent Living’s Pre-Employment Transition Services is hosting a four-week employment preparation workshop series. This series is designed to help students confidently search for\, apply to\, and interview for jobs. Participants will learn how to find job opportunities\, create strong resumes and cover letters\, complete job applications accurately\, and develop essential interview skills. \nThe course focuses on practical\, real-world strategies that employers expect\, helping students build confidence and independence throughout the hiring process. By the end of the program\, students will have the tools\, knowledge\, and materials needed to begin applying for jobs right away. \nThis series is offered at three different times. Participants will join one of the following groups: \n\nGroup 2: May 6–27\nGroup 3: June 3–24\n\nTime: Wednesdays\, 4:00–5:00 PM\nLocation: Virtual (Zoom)\nEligibility: Youth (ages 14–21) with disabilities who are in high school or a post-secondary education program \nTo register: Click here. Once registered\, you will receive the Zoom link via email. \nIf you have any questions\, please reach out to Maddie Heavey\, BCIL’s Youth Services Program Manager\, at mheavey@bostoncil.org
URL:https://bostoncil.org/event/get-hired-ready-set-apply-8/
END:VEVENT
END:VCALENDAR