BEGIN:VCALENDAR
VERSION:2.0
PRODID:-//Boston Center for Independent Living - ECPv6.15.20//NONSGML v1.0//EN
CALSCALE:GREGORIAN
METHOD:PUBLISH
X-ORIGINAL-URL:https://bostoncil.org
X-WR-CALDESC:Events for Boston Center for Independent Living
REFRESH-INTERVAL;VALUE=DURATION:PT1H
X-Robots-Tag:noindex
X-PUBLISHED-TTL:PT1H
BEGIN:VTIMEZONE
TZID:America/New_York
BEGIN:DAYLIGHT
TZOFFSETFROM:-0500
TZOFFSETTO:-0400
TZNAME:EDT
DTSTART:20250309T070000
END:DAYLIGHT
BEGIN:STANDARD
TZOFFSETFROM:-0400
TZOFFSETTO:-0500
TZNAME:EST
DTSTART:20251102T060000
END:STANDARD
BEGIN:DAYLIGHT
TZOFFSETFROM:-0500
TZOFFSETTO:-0400
TZNAME:EDT
DTSTART:20260308T070000
END:DAYLIGHT
BEGIN:STANDARD
TZOFFSETFROM:-0400
TZOFFSETTO:-0500
TZNAME:EST
DTSTART:20261101T060000
END:STANDARD
BEGIN:DAYLIGHT
TZOFFSETFROM:-0500
TZOFFSETTO:-0400
TZNAME:EDT
DTSTART:20270314T070000
END:DAYLIGHT
BEGIN:STANDARD
TZOFFSETFROM:-0400
TZOFFSETTO:-0500
TZNAME:EST
DTSTART:20271107T060000
END:STANDARD
END:VTIMEZONE
BEGIN:VTIMEZONE
TZID:America/New_York
BEGIN:DAYLIGHT
TZOFFSETFROM:-0500
TZOFFSETTO:-0400
TZNAME:EDT
DTSTART:20250309T070000
END:DAYLIGHT
BEGIN:STANDARD
TZOFFSETFROM:-0400
TZOFFSETTO:-0500
TZNAME:EST
DTSTART:20251102T060000
END:STANDARD
BEGIN:DAYLIGHT
TZOFFSETFROM:-0500
TZOFFSETTO:-0400
TZNAME:EDT
DTSTART:20260308T070000
END:DAYLIGHT
BEGIN:STANDARD
TZOFFSETFROM:-0400
TZOFFSETTO:-0500
TZNAME:EST
DTSTART:20261101T060000
END:STANDARD
BEGIN:DAYLIGHT
TZOFFSETFROM:-0500
TZOFFSETTO:-0400
TZNAME:EDT
DTSTART:20270314T070000
END:DAYLIGHT
BEGIN:STANDARD
TZOFFSETFROM:-0400
TZOFFSETTO:-0500
TZNAME:EST
DTSTART:20271107T060000
END:STANDARD
END:VTIMEZONE
BEGIN:VEVENT
DTSTART;TZID=America/New_York:20260520T100000
DTEND;TZID=America/New_York:20260520T120000
DTSTAMP:20260419T194924
CREATED:20230615T135303Z
LAST-MODIFIED:20230615T140013Z
UID:10000573-1779271200-1779278400@bostoncil.org
SUMMARY:Housing Workshop - In-Person & by Zoom
DESCRIPTION:Housing Workshop – In-Person & by Zoom \nJoin3 us on the first and third Wednesday of every month to learn more about and how to apply for affordable housing options in your area. Our knowledgeable staff will answer all your questions and put you on the path to finding the housing that is right for you. \nThis workshop will teach you about:\n• Types of housing available in the Boston area\n• Navigating subsidized and affordable housing\n• Conducting a housing search\n• Communicating with housing authorities\, agencies\, and landlords\n• Completing applications for state voucher programs\n• How to request reasonable accommodations for your disability \nEach workshop will include a period when you can ask questions. \nTo register: email Jackie at jmcglinchey@bostoncil.org with your full\nname and phone number. You will receive a confirmation email from\nJackie that will include the Zoom webinar link and password. \nTo request reasonable accommodations\, please let Jackie know when\nyou register. \n  \n 
URL:https://bostoncil.org/event/housing-workshop-3-2-2/2026-05-20/
LOCATION:BCIL Offices\, 60 Temple Place\, 5th Floor\, Boston Center for Independent Living\, Boston\, MA\, 02111\, United States
CATEGORIES:Workshops
ORGANIZER;CN="Susan Smith":MAILTO:ssmith@bostoncil.org
GEO:42.3550591;-71.0613147
X-APPLE-STRUCTURED-LOCATION;VALUE=URI;X-ADDRESS=BCIL Offices 60 Temple Place 5th Floor Boston Center for Independent Living Boston MA 02111 United States;X-APPLE-RADIUS=500;X-TITLE=60 Temple Place\, 5th Floor\, Boston Center for Independent Living:geo:-71.0613147,42.3550591
END:VEVENT
BEGIN:VEVENT
DTSTART;TZID=America/New_York:20260520T160000
DTEND;TZID=America/New_York:20260520T170000
DTSTAMP:20260419T194924
CREATED:20260320T183101Z
LAST-MODIFIED:20260320T183101Z
UID:10001668-1779292800-1779296400@bostoncil.org
SUMMARY:Get Hired: Ready\, Set\, Apply!
DESCRIPTION:Build skills. Gain confidence. Get hired. \nA 4-week workshop for youth (14-21) with disabilities \nThe Boston Center for Independent Living’s Pre-Employment Transition Services is hosting a four-week employment preparation workshop series. This series is designed to help students confidently search for\, apply to\, and interview for jobs. Participants will learn how to find job opportunities\, create strong resumes and cover letters\, complete job applications accurately\, and develop essential interview skills. \nThe course focuses on practical\, real-world strategies that employers expect\, helping students build confidence and independence throughout the hiring process. By the end of the program\, students will have the tools\, knowledge\, and materials needed to begin applying for jobs right away. \nThis series is offered at three different times. Participants will join one of the following groups: \n\nGroup 2: May 6–27\nGroup 3: June 3–24\n\nTime: Wednesdays\, 4:00–5:00 PM\nLocation: Virtual (Zoom)\nEligibility: Youth (ages 14–21) with disabilities who are in high school or a post-secondary education program \nTo register: Click here. Once registered\, you will receive the Zoom link via email. \nIf you have any questions\, please reach out to Maddie Heavey\, BCIL’s Youth Services Program Manager\, at mheavey@bostoncil.org
URL:https://bostoncil.org/event/get-hired-ready-set-apply-7/
END:VEVENT
END:VCALENDAR