BEGIN:VCALENDAR
VERSION:2.0
PRODID:-//Boston Center for Independent Living - ECPv6.15.20//NONSGML v1.0//EN
CALSCALE:GREGORIAN
METHOD:PUBLISH
X-ORIGINAL-URL:https://bostoncil.org
X-WR-CALDESC:Events for Boston Center for Independent Living
REFRESH-INTERVAL;VALUE=DURATION:PT1H
X-Robots-Tag:noindex
X-PUBLISHED-TTL:PT1H
BEGIN:VTIMEZONE
TZID:America/New_York
BEGIN:DAYLIGHT
TZOFFSETFROM:-0500
TZOFFSETTO:-0400
TZNAME:EDT
DTSTART:20250309T070000
END:DAYLIGHT
BEGIN:STANDARD
TZOFFSETFROM:-0400
TZOFFSETTO:-0500
TZNAME:EST
DTSTART:20251102T060000
END:STANDARD
BEGIN:DAYLIGHT
TZOFFSETFROM:-0500
TZOFFSETTO:-0400
TZNAME:EDT
DTSTART:20260308T070000
END:DAYLIGHT
BEGIN:STANDARD
TZOFFSETFROM:-0400
TZOFFSETTO:-0500
TZNAME:EST
DTSTART:20261101T060000
END:STANDARD
BEGIN:DAYLIGHT
TZOFFSETFROM:-0500
TZOFFSETTO:-0400
TZNAME:EDT
DTSTART:20270314T070000
END:DAYLIGHT
BEGIN:STANDARD
TZOFFSETFROM:-0400
TZOFFSETTO:-0500
TZNAME:EST
DTSTART:20271107T060000
END:STANDARD
END:VTIMEZONE
BEGIN:VEVENT
DTSTART;TZID=America/New_York:20260512T093000
DTEND;TZID=America/New_York:20260512T110000
DTSTAMP:20260419T143404
CREATED:20260317T193521Z
LAST-MODIFIED:20260317T193521Z
UID:10001654-1778578200-1778583600@bostoncil.org
SUMMARY:Adult Learner's Permit Exam Workshop
DESCRIPTION:The Boston Center for Independent Living is hosting an Adult Learner’s Permit Prep Workshop series. This 8-week series consists of weekly study sessions where consumers can review the MA Driver’s Manual with a facilitator\, play review games\, and ask driving related questions. \nContact Aaron Rawley at arawley@bostoncil.org or Lan Huynh at lhuynh@bostoncil.org to receive the signup link or click here: \nBCIL Adult Learner’s Permit Exam Prep Workshops \nThis group will meet via Microsoft Teams. Once you register\, you will receive the Teams link and meeting reminders at the email address provided.
URL:https://bostoncil.org/event/adult-learners-permit-exam-workshop-2/
END:VEVENT
BEGIN:VEVENT
DTSTART;TZID=America/New_York:20260512T140000
DTEND;TZID=America/New_York:20260512T160000
DTSTAMP:20260419T143404
CREATED:20251124T203256Z
LAST-MODIFIED:20251124T203256Z
UID:10001631-1778594400-1778601600@bostoncil.org
SUMMARY:Living Well in the Community workshop
DESCRIPTION:A FREE 8-week workshop that empowers people with\ndisabilities to learn the tools and develop the skills to\npractice healthier life styles! \nWorkshop participants can:\n• Identify what is meaningful to them and then set quality of life goals\naround ways they want to make their lives better\n• Make progress toward the goals they set by applying problem-solving\nskills and managing emotions like frustration and discouragement\,\nfeelings that can get in the way of reaching goals\n• Discover tools and skills that can make goal achievement easier like\ncommunicating effectively and finding important resources\n• Explore ways to improve their overall health by changing daily habits\n• Practice self-advocacy and systems-advocacy to help them make changes\nthat can support them and others in living well \nTopics Include:\nGoal Setting\nBuilding Support\nHealthy Communication\nSeeking Information\nPhysical wellness and more! \nWhy should you enroll? \nEnhance your physical and emotional well-being\nGain practical life tools\nJoin a supportive community\nEnjoy refreshments\nReceive up to $100.00 for participating in 6 or more sessions! \n Session 1: February 3-March 24\nSession 2: April 7-May 26\nEvery Tuesday from 2-4pm \nJoin us in person at 60 Temple Place\, 5th Floor Boston\, MA\, 02111\n-OR\nVia Zoom \nContact Julie Tamayo for additional information:\n(617)821-4398\njtamayo@bostoncil.org
URL:https://bostoncil.org/event/living-well-in-the-community-workshop-29/
END:VEVENT
BEGIN:VEVENT
DTSTART;TZID=America/New_York:20260512T140000
DTEND;TZID=America/New_York:20260512T160000
DTSTAMP:20260419T143404
CREATED:20260416T153241Z
LAST-MODIFIED:20260416T153241Z
UID:10001685-1778594400-1778601600@bostoncil.org
SUMMARY:Semi-annual Forum on Accessibility at the MBTA (Hybrid)
DESCRIPTION:Date: May 12\, 2026 at 2 PM – 4 PM\nLocation: State Transportation Building\, 2nd Floor • 10 Park Plaza • Boston\, MA\nAttendees: Open to everyone \nJoin us on May 12th for a public meeting focused on the MBTA’s transition from the Daniels-Finegold Settlement to the 2025 Next Generation Agreement between the MBTA and Boston Center for Independent Living. Attendees will have an opportunity to share thoughts directly with Interim Secretary and General Manager Phillip Eng\, System-Wide Accessibility\, the Riders’ Transportation Access Group\, and others. \nSpecific topics will include: \n\nRTAG’s assessment of the MBTA’s compliance with the Next Generation Accessibility Agreement\nUpdates on major station accessibility upgrades moving forward\nReflections on the winter of 2025/26\nAnd more\n\nNote: This meeting will not cover topics related to The RIDE. \nRegister here: Meeting Registration – Zoom \nAll RTAG meetings are accessible to people with disabilities and people with limited English proficiency. Real-time captioning (CART) and an American Sign Language (ASL) interpreter will be provided for this meeting. Other accessibility accommodations and language services will be provided free of charge upon request\, as available. \nTo request reasonable accommodation or language services\, please email rtagboston@bostoncil.org or call Kat at 978-893-8100 at least two weeks before the meeting. \n 
URL:https://bostoncil.org/event/semi-annual-forum-on-accessibility-at-the-mbta-hybrid/
END:VEVENT
END:VCALENDAR