BEGIN:VCALENDAR
VERSION:2.0
PRODID:-//Boston Center for Independent Living - ECPv6.15.20//NONSGML v1.0//EN
CALSCALE:GREGORIAN
METHOD:PUBLISH
X-ORIGINAL-URL:https://bostoncil.org
X-WR-CALDESC:Events for Boston Center for Independent Living
REFRESH-INTERVAL;VALUE=DURATION:PT1H
X-Robots-Tag:noindex
X-PUBLISHED-TTL:PT1H
BEGIN:VTIMEZONE
TZID:America/New_York
BEGIN:DAYLIGHT
TZOFFSETFROM:-0500
TZOFFSETTO:-0400
TZNAME:EDT
DTSTART:20250309T070000
END:DAYLIGHT
BEGIN:STANDARD
TZOFFSETFROM:-0400
TZOFFSETTO:-0500
TZNAME:EST
DTSTART:20251102T060000
END:STANDARD
BEGIN:DAYLIGHT
TZOFFSETFROM:-0500
TZOFFSETTO:-0400
TZNAME:EDT
DTSTART:20260308T070000
END:DAYLIGHT
BEGIN:STANDARD
TZOFFSETFROM:-0400
TZOFFSETTO:-0500
TZNAME:EST
DTSTART:20261101T060000
END:STANDARD
BEGIN:DAYLIGHT
TZOFFSETFROM:-0500
TZOFFSETTO:-0400
TZNAME:EDT
DTSTART:20270314T070000
END:DAYLIGHT
BEGIN:STANDARD
TZOFFSETFROM:-0400
TZOFFSETTO:-0500
TZNAME:EST
DTSTART:20271107T060000
END:STANDARD
END:VTIMEZONE
BEGIN:VEVENT
DTSTART;TZID=America/New_York:20260423T100000
DTEND;TZID=America/New_York:20260423T160000
DTSTAMP:20260419T081327
CREATED:20260324T193210Z
LAST-MODIFIED:20260324T193210Z
UID:10001675-1776938400-1776960000@bostoncil.org
SUMMARY:Advocacy In Action: From Boston City Hall to the Massachusetts State House
DESCRIPTION:Join the Boston Center for Independent Living and Easterseals Massachusetts for a week of learning about and engaging in legislative advocacy for the disability community.\nDuring April break\, we will be visiting Boston City Hall and participating in IL Education Day at the State House. Read below to find out more information about each fieldtrip! \nLearn about: \n\nLegislative Advocacy\nDisability Rights\nAccess and Inclusion\nIndependent Living\nCommunity Organizing\n\nIL Education Day\nJoin people with disabilities of all ages in a day of learning and advocacy at the State House. We will learn about different causes that are important to the disability community (ex: accessibility of the MBTA) and then participate in advocacy work with our state legislators!\nWhen: April 23rd\, 10 AM- 3PM\nWhere: 24 Beacon St\, Boston\, MA 02133 (front of building)\nLunch will be provided \nEligibility: Highschool students with a documented disability (IEP\, 504\, medical documentation) \nRegistration: To register: Click here or scan the QR code above. \nIf you have any questions\, please reach out to Maddie Heavey\, BCIL’s Youth Services Program Manager\, at mheavey@bostoncil.org
URL:https://bostoncil.org/event/advocacy-in-action-from-boston-city-hall-to-the-massachusetts-state-house-2/
END:VEVENT
END:VCALENDAR