BEGIN:VCALENDAR
VERSION:2.0
PRODID:-//Boston Center for Independent Living - ECPv6.15.20//NONSGML v1.0//EN
CALSCALE:GREGORIAN
METHOD:PUBLISH
X-ORIGINAL-URL:https://bostoncil.org
X-WR-CALDESC:Events for Boston Center for Independent Living
REFRESH-INTERVAL;VALUE=DURATION:PT1H
X-Robots-Tag:noindex
X-PUBLISHED-TTL:PT1H
BEGIN:VTIMEZONE
TZID:America/New_York
BEGIN:DAYLIGHT
TZOFFSETFROM:-0500
TZOFFSETTO:-0400
TZNAME:EDT
DTSTART:20250309T070000
END:DAYLIGHT
BEGIN:STANDARD
TZOFFSETFROM:-0400
TZOFFSETTO:-0500
TZNAME:EST
DTSTART:20251102T060000
END:STANDARD
BEGIN:DAYLIGHT
TZOFFSETFROM:-0500
TZOFFSETTO:-0400
TZNAME:EDT
DTSTART:20260308T070000
END:DAYLIGHT
BEGIN:STANDARD
TZOFFSETFROM:-0400
TZOFFSETTO:-0500
TZNAME:EST
DTSTART:20261101T060000
END:STANDARD
BEGIN:DAYLIGHT
TZOFFSETFROM:-0500
TZOFFSETTO:-0400
TZNAME:EDT
DTSTART:20270314T070000
END:DAYLIGHT
BEGIN:STANDARD
TZOFFSETFROM:-0400
TZOFFSETTO:-0500
TZNAME:EST
DTSTART:20271107T060000
END:STANDARD
END:VTIMEZONE
BEGIN:VEVENT
DTSTART;TZID=America/New_York:20260408T160000
DTEND;TZID=America/New_York:20260408T170000
DTSTAMP:20260419T080742
CREATED:20260320T182226Z
LAST-MODIFIED:20260320T182226Z
UID:10001662-1775664000-1775667600@bostoncil.org
SUMMARY:Get Hired: Ready\, Set\, Apply!
DESCRIPTION:Build skills. Gain confidence. Get hired. \nA 4-week workshop for youth (14-21) with disabilities \nThe Boston Center for Independent Living’s Pre-Employment Transition Services is hosting a four-week employment preparation workshop series. This series is designed to help students confidently search for\, apply to\, and interview for jobs. Participants will learn how to find job opportunities\, create strong resumes and cover letters\, complete job applications accurately\, and develop essential interview skills. \nThe course focuses on practical\, real-world strategies that employers expect\, helping students build confidence and independence throughout the hiring process. By the end of the program\, students will have the tools\, knowledge\, and materials needed to begin applying for jobs right away. \nThis series is offered at three different times. Participants will join one of the following groups: \n\nGroup 1: April 8–29\nGroup 2: May 6–27\nGroup 3: June 3–24\n\nTime: Wednesdays\, 4:00–5:00 PM\nLocation: Virtual (Zoom)\nEligibility: Youth (ages 14–21) with disabilities who are in high school or a post-secondary education program \nTo register: Click here. Once registered\, you will receive the Zoom link via email. \nIf you have any questions\, please reach out to Maddie Heavey\, BCIL’s Youth Services Program Manager\, at mheavey@bostoncil.org
URL:https://bostoncil.org/event/get-hired-ready-set-apply/
END:VEVENT
END:VCALENDAR