BEGIN:VCALENDAR
VERSION:2.0
PRODID:-//Boston Center for Independent Living - ECPv6.15.20//NONSGML v1.0//EN
CALSCALE:GREGORIAN
METHOD:PUBLISH
X-ORIGINAL-URL:https://bostoncil.org
X-WR-CALDESC:Events for Boston Center for Independent Living
REFRESH-INTERVAL;VALUE=DURATION:PT1H
X-Robots-Tag:noindex
X-PUBLISHED-TTL:PT1H
BEGIN:VTIMEZONE
TZID:America/New_York
BEGIN:DAYLIGHT
TZOFFSETFROM:-0500
TZOFFSETTO:-0400
TZNAME:EDT
DTSTART:20250309T070000
END:DAYLIGHT
BEGIN:STANDARD
TZOFFSETFROM:-0400
TZOFFSETTO:-0500
TZNAME:EST
DTSTART:20251102T060000
END:STANDARD
BEGIN:DAYLIGHT
TZOFFSETFROM:-0500
TZOFFSETTO:-0400
TZNAME:EDT
DTSTART:20260308T070000
END:DAYLIGHT
BEGIN:STANDARD
TZOFFSETFROM:-0400
TZOFFSETTO:-0500
TZNAME:EST
DTSTART:20261101T060000
END:STANDARD
BEGIN:DAYLIGHT
TZOFFSETFROM:-0500
TZOFFSETTO:-0400
TZNAME:EDT
DTSTART:20270314T070000
END:DAYLIGHT
BEGIN:STANDARD
TZOFFSETFROM:-0400
TZOFFSETTO:-0500
TZNAME:EST
DTSTART:20271107T060000
END:STANDARD
END:VTIMEZONE
BEGIN:VEVENT
DTSTART;TZID=America/New_York:20260319T123000
DTEND;TZID=America/New_York:20260319T153000
DTSTAMP:20260421T064833
CREATED:20260317T154410Z
LAST-MODIFIED:20260317T154410Z
UID:10001652-1773923400-1773934200@bostoncil.org
SUMMARY:Rally for PCA services on March 19th!
DESCRIPTION:The governor’s proposed budget again looks to reduce PCA services\, seeking a cut of $68 million dollars. This could result in a serious loss of services and impact the income of PCAs\, who already facing many challenges staying afloat. In response\, BCIL\, in conjunction with 1199SEIU and disability and senior groups\, is rallying for PCA and home care services. \nThursday\, March 19\, 12:30 p.m.\nMassachusetts State House \nWe fought off proposals that would have cut services in 2024 and 2025. And our voices are needed again! \nFor more information contact BCIL at contactBCIL@bostoncil.org or 617-338-6665.
URL:https://bostoncil.org/event/rally-for-pca-services-on-march-19th/
END:VEVENT
END:VCALENDAR